BEGIN:VCALENDAR
VERSION:2.0
PRODID:-//wp-events-plugin.com//7.2.3.1//EN
TZID:America/Detroit
X-WR-TIMEZONE:America/Detroit
BEGIN:VEVENT
UID:643@peacefuldragonschool.com
DTSTART;TZID=America/Detroit:20200106T000000
DTEND;TZID=America/Detroit:20200109T000000
DTSTAMP:20191205T195518Z
URL:https://peacefuldragonschool.com/events/winter-classes-begin-jan-6/
SUMMARY:Winter Classes begin Jan 6
DESCRIPTION:Ongoing classes for the Winter semester begin Jan 6 - Apr 9.\n\
 nClick here to see schedule and/or register.
CATEGORIES:Chi Kung Classes,Ongoing Classes,Tai Chi Classes
LOCATION:Peaceful Dragon School\, 1945 Pauline Blvd.\, Suite B\, Ann Arbor\
 , MI\, 48103 \, United States
GEO:42.2673376;-83.7733351
X-APPLE-STRUCTURED-LOCATION;VALUE=URI;X-ADDRESS=1945 Pauline Blvd.\, Suite 
 B\, Ann Arbor\, MI\, 48103 \, United States;X-APPLE-RADIUS=100;X-TITLE=Pea
 ceful Dragon School:geo:42.2673376,-83.7733351
END:VEVENT
BEGIN:VTIMEZONE
TZID:America/Detroit
X-LIC-LOCATION:America/Detroit
BEGIN:STANDARD
DTSTART:20191103T010000
TZOFFSETFROM:-0400
TZOFFSETTO:-0500
TZNAME:EST
END:STANDARD
END:VTIMEZONE
END:VCALENDAR