BEGIN:VCALENDAR
VERSION:2.0
PRODID:-//wp-events-plugin.com//7.2.3.1//EN
TZID:America/Detroit
X-WR-TIMEZONE:America/Detroit
BEGIN:VEVENT
UID:720@peacefuldragonschool.com
DTSTART;TZID=America/Detroit:20260502T100000
DTEND;TZID=America/Detroit:20260502T111500
DTSTAMP:20260423T004148Z
URL:https://peacefuldragonschool.com/events/tai-chi-walking/
SUMMARY:Tai Chi Walking - May 2
DESCRIPTION:Learn Tai Chi Walking to support balance mechanics\, mindfuln
 ess in walking\, and grounding.\n\nClick here to register.
CATEGORIES:Workshops
LOCATION:Peaceful Dragon School\, 1945 Pauline Blvd.\, Suite B\, Ann Arbor\
 , MI\, 48103 \, United States
GEO:42.2673376;-83.7733351
X-APPLE-STRUCTURED-LOCATION;VALUE=URI;X-ADDRESS=1945 Pauline Blvd.\, Suite 
 B\, Ann Arbor\, MI\, 48103 \, United States;X-APPLE-RADIUS=100;X-TITLE=Pea
 ceful Dragon School:geo:42.2673376,-83.7733351
END:VEVENT
BEGIN:VTIMEZONE
TZID:America/Detroit
X-LIC-LOCATION:America/Detroit
BEGIN:DAYLIGHT
DTSTART:20260308T030000
TZOFFSETFROM:-0500
TZOFFSETTO:-0400
TZNAME:EDT
END:DAYLIGHT
END:VTIMEZONE
END:VCALENDAR