BEGIN:VCALENDAR
VERSION:2.0
PRODID:-//wp-events-plugin.com//7.2.3.1//EN
TZID:America/Detroit
X-WR-TIMEZONE:America/Detroit
BEGIN:VEVENT
UID:645@peacefuldragonschool.com
DTSTART;TZID=America/Detroit:20200201T143000
DTEND;TZID=America/Detroit:20200201T163000
DTSTAMP:20200128T125420Z
URL:https://peacefuldragonschool.com/events/self-massage-for-reducing-tens
 ion-feb-1/
SUMMARY:Canceled - Self-Massage for Reducing Tension - Feb 1
DESCRIPTION:Feb 1\, 2:30 – 4:30 PM\n\nSelf-Massage for Reducing Tension (
 head\, neck\, shoulders\, back\, arms\, hands\, legs\, and feet)\n\nMassag
 e is one of the self-care options that offers us a sense of well-being as 
 it can reduce physical stress. During this two-hour workshop you will lear
 n how to give yourself an Acupressure treatment from your head to your toe
 s. Master Wasentha Young will show you the release points to pressure and 
 gentle massage techniques as well as how to reach those hard-to-reach plac
 es on your body for reducing physical tension. Tuition: $70 (check or cash
 )\; $75 (on-line)
CATEGORIES:Chi Kung,Chi Kung Workshops,Events,Workshops
LOCATION:Peaceful Dragon School\, 1945 Pauline Blvd.\, Suite B\, Ann Arbor\
 , MI\, 48103 \, United States
GEO:42.2673376;-83.7733351
X-APPLE-STRUCTURED-LOCATION;VALUE=URI;X-ADDRESS=1945 Pauline Blvd.\, Suite 
 B\, Ann Arbor\, MI\, 48103 \, United States;X-APPLE-RADIUS=100;X-TITLE=Pea
 ceful Dragon School:geo:42.2673376,-83.7733351
END:VEVENT
BEGIN:VTIMEZONE
TZID:America/Detroit
X-LIC-LOCATION:America/Detroit
BEGIN:STANDARD
DTSTART:20191103T010000
TZOFFSETFROM:-0400
TZOFFSETTO:-0500
TZNAME:EST
END:STANDARD
END:VTIMEZONE
END:VCALENDAR