BEGIN:VCALENDAR
VERSION:2.0
PRODID:-//wp-events-plugin.com//7.2.3.1//EN
TZID:America/Detroit
X-WR-TIMEZONE:America/Detroit
BEGIN:VEVENT
UID:664@peacefuldragonschool.com
DTSTART;TZID=America/Detroit:20200525T000000
DTEND;TZID=America/Detroit:20200529T000000
DTSTAMP:20200525T102131Z
URL:https://peacefuldragonschool.com/events/school-break-memorial-week/
SUMMARY:School Break Memorial Week
DESCRIPTION:No classes Memorial and July 4 weeks
CATEGORIES:Chi Kung Classes,Ongoing Classes,Tai Chi Classes
LOCATION:Peaceful Dragon School\, 1945 Pauline Blvd.\, Suite B\, Ann Arbor\
 , MI\, 48103 \, United States
GEO:42.267338;-83.773338
X-APPLE-STRUCTURED-LOCATION;VALUE=URI;X-ADDRESS=1945 Pauline Blvd.\, Suite 
 B\, Ann Arbor\, MI\, 48103 \, United States;X-APPLE-RADIUS=100;X-TITLE=Pea
 ceful Dragon School:geo:42.267338,-83.773338
END:VEVENT
BEGIN:VTIMEZONE
TZID:America/Detroit
X-LIC-LOCATION:America/Detroit
BEGIN:DAYLIGHT
DTSTART:20200308T030000
TZOFFSETFROM:-0500
TZOFFSETTO:-0400
TZNAME:EDT
END:DAYLIGHT
END:VTIMEZONE
END:VCALENDAR