BEGIN:VCALENDAR
VERSION:2.0
PRODID:-//wp-events-plugin.com//7.2.3.1//EN
TZID:America/Detroit
X-WR-TIMEZONE:America/Detroit
BEGIN:VEVENT
UID:543@peacefuldragonschool.com
DTSTART;TZID=America/Detroit:20150629T000000
DTEND;TZID=America/Detroit:20150704T000000
DTSTAMP:20150407T134500Z
URL:https://peacefuldragonschool.com/events/no-classes-june-29-july-4/
SUMMARY:No Classes June 29 - July 4
DESCRIPTION:No classes the week of June 29 - July 4. Classes resume July 6.
LOCATION:Peaceful Dragon School\, 1945 Pauline Blvd.\, Suite B\, Ann Arbor\
 , MI\, 48103 \, United States
GEO:42.2673376;-83.7733351
X-APPLE-STRUCTURED-LOCATION;VALUE=URI;X-ADDRESS=1945 Pauline Blvd.\, Suite 
 B\, Ann Arbor\, MI\, 48103 \, United States;X-APPLE-RADIUS=100;X-TITLE=Pea
 ceful Dragon School:geo:42.2673376,-83.7733351
END:VEVENT
BEGIN:VTIMEZONE
TZID:America/Detroit
X-LIC-LOCATION:America/Detroit
BEGIN:DAYLIGHT
DTSTART:20150308T030000
TZOFFSETFROM:-0500
TZOFFSETTO:-0400
TZNAME:EDT
END:DAYLIGHT
END:VTIMEZONE
END:VCALENDAR