BEGIN:VCALENDAR
VERSION:2.0
PRODID:-//wp-events-plugin.com//7.2.3.1//EN
TZID:America/Detroit
X-WR-TIMEZONE:America/Detroit
BEGIN:VEVENT
UID:537@peacefuldragonschool.com
DTSTART;TZID=America/Detroit:20150926T100000
DTEND;TZID=America/Detroit:20150926T163000
DTSTAMP:20150816T205423Z
URL:https://peacefuldragonschool.com/events/grandmaster-william-cc-chen-se
 minar/
SUMMARY:Grandmaster William CC Chen Seminar
DESCRIPTION:As part of our 25th year anniversary! In addition\, Master Youn
 g will lead a FREE integration session on Sunday\, September 27 at the Pea
 ceful Dragon School. There are other festivities planned for the followin
 g week. :-) Grandmaster Chen's seminar location is Rudolf Steiner High Sc
 hool. All other events will be at the Peaceful Dragon School. To register 
 click here\n\n&nbsp\;\n\nThe Location of the seminar is:\n\nRudolf Steiner
  High School\n2070 Pontiac Trail\nAnn Arbor\, MI 48105
CATEGORIES:Events,Tai Chi,Tai Chi Classes,Tai Chi Workshops,Workshops
LOCATION:Rudolf Steiner High School\, 2230 Pontiac Trail\, Ann Arbor\, MI\,
  United States
GEO:42.305327;-83.73337800000002
X-APPLE-STRUCTURED-LOCATION;VALUE=URI;X-ADDRESS=2230 Pontiac Trail\, Ann Ar
 bor\, MI\, United States;X-APPLE-RADIUS=100;X-TITLE=Rudolf Steiner High Sc
 hool:geo:42.305327,-83.73337800000002
END:VEVENT
BEGIN:VTIMEZONE
TZID:America/Detroit
X-LIC-LOCATION:America/Detroit
BEGIN:DAYLIGHT
DTSTART:20150308T030000
TZOFFSETFROM:-0500
TZOFFSETTO:-0400
TZNAME:EDT
END:DAYLIGHT
END:VTIMEZONE
END:VCALENDAR