BEGIN:VCALENDAR
VERSION:2.0
PRODID:-//wp-events-plugin.com//7.2.3.1//EN
TZID:America/Detroit
X-WR-TIMEZONE:America/Detroit
BEGIN:VEVENT
UID:651@peacefuldragonschool.com
DTSTART;TZID=America/Detroit:20200115T090000
DTEND;TZID=America/Detroit:20200115T120000
DTSTAMP:20200114T093123Z
URL:https://peacefuldragonschool.com/events/flood-relocation-for-morning-c
 lass-today-1-15/
SUMMARY:Flood Relocation for Morning Class - Today 1/15
DESCRIPTION:I secured a space for a few of the classes. As of now I cannot 
 find a space for Wednesday evening FP and PH classes nor Thursday\, evenin
 g Chi Kung and Tai Chi Beginners. The following classes are scheduled to b
 e held at:\n\nFriends Meeting House \n1420 Hill St\nAnn Arbor\, MI 48104.
  [No street shoes in the space.]\n\nTuesday\n6:00 - 7:00 PM - Chi Kung\n7:
 15 - 8:30 PM - Tai Chi Beginner\n\nWednesday\n9-10 AM - Form Progression 1
 \n10-11 AM - Form Progression 2\n11 - 12 - Sword and Push Hands (for this 
 session both will be conducted)\n\nThursday\n10:00 - 11:15 AM - Tai Chi Be
 ginner\n\nThere are a number of spots in the alley behind the building. Pa
 rking on the street is available for free after 6 PM.\n\nThank you for und
 erstanding and\, in advance\, your help with getting the studio back. Clas
 ses will resume as normal next week.\n\nWarm regards\,\nMaster Young
CATEGORIES:Chi Kung Classes,Ongoing Classes,Tai Chi Classes
LOCATION:Friends Meeting House\, 1420 Hill Street\, Ann Arbor\, MI\, 48104\
 , United States
X-APPLE-STRUCTURED-LOCATION;VALUE=URI;X-ADDRESS=1420 Hill Street\, Ann Arbo
 r\, MI\, 48104\, United States;X-APPLE-RADIUS=100;X-TITLE=Friends Meeting 
 House:geo:0,0
END:VEVENT
BEGIN:VTIMEZONE
TZID:America/Detroit
X-LIC-LOCATION:America/Detroit
BEGIN:STANDARD
DTSTART:20191103T010000
TZOFFSETFROM:-0400
TZOFFSETTO:-0500
TZNAME:EST
END:STANDARD
END:VTIMEZONE
END:VCALENDAR